BEGIN:VCALENDAR
VERSION:2.0
PRODID:-//81.169.145.95//NONSGML kigkonsult.se iCalcreator 2.20//
CALSCALE:GREGORIAN
METHOD:PUBLISH
X-WR-TIMEZONE:UTC
BEGIN:VEVENT
UID:event1739@Kochschule Kirschbaum Wuppertal
DTSTAMP:20260419T195636Z
CATEGORIES:Kochkurse
DESCRIPTION:US BBQ - wie es sein soll! Der Geschmack der Südstaaten auf dem
  Teller!\nKategorie: Kochkurse\nICS-Link: https://www.kochschule-kirschbau
 m.de/index.php?option=com_jem&view=event&id=1739:us-bbq-wie-es-sein-soll-d
 er-geschmack-der-suedstaaten-auf-dem-teller\n
DTSTART:20260516T170000Z
DTEND:20260516T210000Z
SUMMARY:US BBQ - wie es sein soll! Der Geschmack der Südstaaten auf dem Tel
 ler!
URL:https://www.kochschule-kirschbaum.de/index.php?option=com_jem&view=even
 t&id=1739:us-bbq-wie-es-sein-soll-der-geschmack-der-suedstaaten-auf-dem-te
 ller
END:VEVENT
END:VCALENDAR
