BEGIN:VCALENDAR
VERSION:2.0
PRODID:-//81.169.145.95//NONSGML kigkonsult.se iCalcreator 2.20//
CALSCALE:GREGORIAN
METHOD:PUBLISH
X-WR-TIMEZONE:UTC
BEGIN:VEVENT
UID:event1237@Kochschule Kirschbaum Wuppertal
DTSTAMP:20260421T185250Z
CATEGORIES:Kochkurse
DESCRIPTION:Fleischlos glücklich! - Veganer Kochworkshop\nKategorie: Kochku
 rse\nICS-Link: https://www.kochschule-kirschbaum.de/index.php?option=com_j
 em&view=event&id=1237:fleischlos-gluecklich-veganer-kochworkshop\n
DTSTART:20240620T180000Z
DTEND:20240620T220000Z
LOCATION:Kochschule Kirschbaum\,Kölnerstrasse 19\,42119 Wuppertal
SUMMARY:Fleischlos glücklich! - Veganer Kochworkshop
URL:https://www.kochschule-kirschbaum.de/index.php?option=com_jem&view=even
 t&id=1237:fleischlos-gluecklich-veganer-kochworkshop
END:VEVENT
END:VCALENDAR
